BEGIN:VCALENDAR
VERSION:2.0
PRODID:-//Tukios.com/
BEGIN:VEVENT
UID:bb811c3f-ca69-4696-a8bd-e887b05dc253@www.redrosefuneral.com
DTSTAMP:20260424T234957Z
DTSTART:20260502T160000Z
DTEND:20260502T173000Z
SUMMARY:Visitation
DESCRIPTION:
URL:https://www.redrosefuneral.com/obituaries/lenae-manhart
LOCATION: 2060 Niter Bench Rd  Grace ID 83241
GEO:42.5040209;-111.727417
END:VEVENT
END:VCALENDAR