BEGIN:VCALENDAR
VERSION:2.0
PRODID:-//Tukios.com/
BEGIN:VEVENT
UID:f8980a9c-15f3-497b-a6e9-aaa99b52abaf@www.redrosefuneral.com
DTSTAMP:20260424T234856Z
DTSTART:20260502T000000Z
DTEND:20260502T020000Z
SUMMARY:Visitation
DESCRIPTION:
URL:https://www.redrosefuneral.com/obituaries/lenae-manhart
LOCATION: 2060 Niter Bench Rd  Grace ID 83241
GEO:42.5040209;-111.727417
END:VEVENT
END:VCALENDAR