BEGIN:VCALENDAR
VERSION:2.0
PRODID:-//Tukios.com/
BEGIN:VEVENT
UID:e492b728-226b-4a23-a29b-2c93dcca47fa@www.redrosefuneral.com
DTSTAMP:20260424T234805Z
DTSTART:20260502T180000Z
DTEND:20260502T190000Z
SUMMARY:Funeral Service
DESCRIPTION:
URL:https://www.redrosefuneral.com/obituaries/lenae-manhart
LOCATION: 2060 Niter Bench Rd  Grace ID 83241
GEO:42.5040209;-111.727417
END:VEVENT
END:VCALENDAR