BEGIN:VCALENDAR
VERSION:2.0
PRODID:-//Tukios.com/
BEGIN:VEVENT
UID:00b7e3e8-1af0-417f-a90b-d8d45db54da8@www.redrosefuneral.com
DTSTAMP:20260424T042708Z
DTSTART:20260502T160000Z
DTEND:20260502T170000Z
SUMMARY:Memorial Service
DESCRIPTION:
URL:https://www.redrosefuneral.com/obituaries/corwin-johnson
LOCATION:The Church of Jesus Christ of Latter-day Saints 155 W 400 N  
	Smithfield UT 84335
GEO:41.8455026;-111.8370509
END:VEVENT
END:VCALENDAR